BEGIN:VCALENDAR
VERSION:2.0
PRODID:-//wp-events-plugin.com//6.6.3//EN
BEGIN:VEVENT
UID:181@terribewley.com
DTSTART:20191218T140000Z
DTEND:20191218T153000Z
DTSTAMP:20190312T034312Z
URL:https://terribewley.com/events/windsor-gardens-assisted-living-13/
SUMMARY:Windsor Gardens Assisted Living
DESCRIPTION:
LOCATION:Windsor Gardens Assisted Living\, 5611 Central Avenue Pike\, Knoxv
 ille\, United States
GEO:36.0146477;-83.9763413
X-APPLE-STRUCTURED-LOCATION;VALUE=URI;X-ADDRESS=5611 Central Avenue Pike\, 
 Knoxville\, United States;X-APPLE-RADIUS=100;X-TITLE=Windsor Gardens Assis
 ted Living:geo:36.0146477,-83.9763413
END:VEVENT
END:VCALENDAR