BEGIN:VCALENDAR
VERSION:2.0
PRODID:-//wp-events-plugin.com//6.6.3//EN
BEGIN:VEVENT
UID:47@terribewley.com
DTSTART:20151223T143000Z
DTEND:20151223T154500Z
DTSTAMP:20151201T173531Z
URL:https://terribewley.com/events/west-hills-health-rehab/
SUMMARY:West Hills Health and Rehab
DESCRIPTION:
LOCATION:West Hills Health and Rehab\, 6801 Middlebrook Pike\, knoxville\, 
 TN\, United States
GEO:35.9458685;-84.02771180000002
X-APPLE-STRUCTURED-LOCATION;VALUE=URI;X-ADDRESS=6801 Middlebrook Pike\, kno
 xville\, TN\, United States;X-APPLE-RADIUS=100;X-TITLE=West Hills Health a
 nd Rehab:geo:35.9458685,-84.02771180000002
END:VEVENT
END:VCALENDAR