BEGIN:VCALENDAR
VERSION:2.0
PRODID:-//wp-events-plugin.com//6.6.3//EN
BEGIN:VEVENT
UID:93@terribewley.com
DTSTART:20170116T153000Z
DTEND:20170116T170000Z
DTSTAMP:20170214T193302Z
URL:https://terribewley.com/events/west-hills-health-rehab-center-2/
SUMMARY:West Hills Health & Rehab Center
DESCRIPTION:
LOCATION:West Hills Health & Rehab Center\, 6801 Middlebrook Pike\, Knoxvil
 le\, Tennessee\, 37909\, United States
GEO:35.9458685;-84.02771180000002
X-APPLE-STRUCTURED-LOCATION;VALUE=URI;X-ADDRESS=6801 Middlebrook Pike\, Kno
 xville\, Tennessee\, 37909\, United States;X-APPLE-RADIUS=100;X-TITLE=West
  Hills Health & Rehab Center:geo:35.9458685,-84.02771180000002
END:VEVENT
END:VCALENDAR