BEGIN:VCALENDAR
VERSION:2.0
PRODID:-//wp-events-plugin.com//6.6.3//EN
BEGIN:VEVENT
UID:198@terribewley.com
DTSTART;VALUE=DATE:20230729
DTEND;VALUE=DATE:20230730
DTSTAMP:20230717T143712Z
URL:https://terribewley.com/events/victory-christian-church-ladies-luncheo
 n-and-concert/
SUMMARY:Victory Christian Church\, Ladies Luncheon and Concert
DESCRIPTION:Sat. July 29:    Victory Christian Church\, Ladies Luncheon 
 and Concert\, 11:30 am Lunch 12:00 Noon\, Concert following.\n\nAddress: 2
 01 South Beech Street\, Oxford\, Ohio 45056\n\nPhone: (513) 320-3585 call 
 for lunch reservations.
LOCATION:Victory Christian Church\, 201 South Beech Street\, Oxford\, OH\, 
 45056\, United States
GEO:39.50822;-84.743839
X-APPLE-STRUCTURED-LOCATION;VALUE=URI;X-ADDRESS=201 South Beech Street\, Ox
 ford\, OH\, 45056\, United States;X-APPLE-RADIUS=100;X-TITLE=Victory Chris
 tian Church:geo:39.50822,-84.743839
END:VEVENT
END:VCALENDAR