BEGIN:VCALENDAR
VERSION:2.0
PRODID:-//wp-events-plugin.com//6.6.3//EN
BEGIN:VEVENT
UID:137@terribewley.com
DTSTART:20180624T104500Z
DTEND:20180624T120000Z
DTSTAMP:20180408T050444Z
URL:https://terribewley.com/events/special-music-first-christian-church-he
 ssville/
SUMMARY:Special Music: First Christian Church of Hessville
DESCRIPTION:
END:VEVENT
END:VCALENDAR