BEGIN:VCALENDAR
VERSION:2.0
PRODID:-//wp-events-plugin.com//6.6.3//EN
BEGIN:VEVENT
UID:37@terribewley.com
DTSTART:20150821T160000Z
DTEND:20150821T173000Z
DTSTAMP:20150819T152951Z
URL:https://terribewley.com/events/sherrill-hills-retirement-resort/
SUMMARY:Sherrill Hills Retirement Resort
DESCRIPTION:
LOCATION:\, \, 
X-APPLE-STRUCTURED-LOCATION;VALUE=URI;X-ADDRESS=\, ;X-APPLE-RADIUS=100;X-TI
 TLE=:geo:0,0
END:VEVENT
END:VCALENDAR