BEGIN:VCALENDAR
VERSION:2.0
PRODID:-//wp-events-plugin.com//6.6.3//EN
BEGIN:VEVENT
UID:172@terribewley.com
DTSTART:20190809T160000Z
DTEND:20190809T180000Z
DTSTAMP:20190312T033427Z
URL:https://terribewley.com/events/sherrill-hills-retirement-community-10/
SUMMARY:Sherrill Hills Retirement Community
DESCRIPTION:
LOCATION:Sherrill Hills Retirement\, 271 Moss Grove Blvd\, Knoxville\, Unit
 ed States
GEO:35.9055446;-84.09208189999998
X-APPLE-STRUCTURED-LOCATION;VALUE=URI;X-ADDRESS=271 Moss Grove Blvd\, Knoxv
 ille\, United States;X-APPLE-RADIUS=100;X-TITLE=Sherrill Hills Retirement:
 geo:35.9055446,-84.09208189999998
END:VEVENT
END:VCALENDAR