BEGIN:VCALENDAR
VERSION:2.0
PRODID:-//wp-events-plugin.com//6.6.3//EN
BEGIN:VEVENT
UID:54@terribewley.com
DTSTART:20160409T140000Z
DTEND:20160409T140000Z
DTSTAMP:20160412T212406Z
URL:https://terribewley.com/events/river-oakes-place-assisted-living-2/
SUMMARY:River Oakes Place Assisted Living
DESCRIPTION:
LOCATION:River Oakes Place Assisted Living\, 100 W 5th Avenue\, Lenoir City
 \, United States
GEO:35.7944415;-84.2701753
X-APPLE-STRUCTURED-LOCATION;VALUE=URI;X-ADDRESS=100 W 5th Avenue\, Lenoir C
 ity\, United States;X-APPLE-RADIUS=100;X-TITLE=River Oakes Place Assisted 
 Living:geo:35.7944415,-84.2701753
END:VEVENT
END:VCALENDAR