BEGIN:VCALENDAR
VERSION:2.0
PRODID:-//wp-events-plugin.com//6.6.3//EN
BEGIN:VEVENT
UID:89@terribewley.com
DTSTART:20161220T130000Z
DTEND:20161220T130000Z
DTSTAMP:20161007T185631Z
URL:https://terribewley.com/events/rain-tree-terrace-assisted-living-2/
SUMMARY:Rain Tree Terrace Assisted Living
DESCRIPTION:
LOCATION:Rain Tree Terrace Assisted Living\, 555 Rain Forest Road\, Knoxvil
 le\, United States
GEO:35.912427;-84.05894669999998
X-APPLE-STRUCTURED-LOCATION;VALUE=URI;X-ADDRESS=555 Rain Forest Road\, Knox
 ville\, United States;X-APPLE-RADIUS=100;X-TITLE=Rain Tree Terrace Assiste
 d Living:geo:35.912427,-84.05894669999998
END:VEVENT
END:VCALENDAR