BEGIN:VCALENDAR
VERSION:2.0
PRODID:-//wp-events-plugin.com//6.6.3//EN
BEGIN:VEVENT
UID:12@terribewley.com
DTSTART:20150417T140000Z
DTEND:20150417T153000Z
DTSTAMP:20150212T151857Z
URL:https://terribewley.com/events/manor-house-assisted-living-2/
SUMMARY:Manor House Assisted Living
DESCRIPTION:
LOCATION:Manor House Assisted Living\, 8501 South Northshore Dr.\, Knoxvill
 e\, Tennessee\, 37922\, United States
GEO:35.894259;-84.03331000000003
X-APPLE-STRUCTURED-LOCATION;VALUE=URI;X-ADDRESS=8501 South Northshore Dr.\,
  Knoxville\, Tennessee\, 37922\, United States;X-APPLE-RADIUS=100;X-TITLE=
 Manor House Assisted Living:geo:35.894259,-84.03331000000003
END:VEVENT
END:VCALENDAR