BEGIN:VCALENDAR
VERSION:2.0
PRODID:-//wp-events-plugin.com//6.6.3//EN
BEGIN:VEVENT
UID:65@terribewley.com
DTSTART:20160704T134500Z
DTEND:20160704T134500Z
DTSTAMP:20160711T154746Z
URL:https://terribewley.com/events/echo-ridge-retirement/
SUMMARY:Echo Ridge Retirement
DESCRIPTION:
LOCATION:Echo Ridge Retirement Community\, 8458 Gleason Drive\, Knoxville\,
  Tennessee\, 37919\, United States
GEO:35.9153455;-84.05687189999998
X-APPLE-STRUCTURED-LOCATION;VALUE=URI;X-ADDRESS=8458 Gleason Drive\, Knoxvi
 lle\, Tennessee\, 37919\, United States;X-APPLE-RADIUS=100;X-TITLE=Echo Ri
 dge Retirement Community:geo:35.9153455,-84.05687189999998
END:VEVENT
END:VCALENDAR