BEGIN:VCALENDAR
VERSION:2.0
PRODID:-//wp-events-plugin.com//6.6.3//EN
BEGIN:VEVENT
UID:163@terribewley.com
DTSTART:20190316T143000Z
DTEND:20190316T160000Z
DTSTAMP:20190312T032141Z
URL:https://terribewley.com/events/echo-ridge-retirement-community-10/
SUMMARY:Echo Ridge Retirement Community
DESCRIPTION:
LOCATION:Echo Ridge Retirement Community\, 8458 Gleason Drive\, Knoxville\,
  Tennessee\, 37919\, United States
GEO:35.9153455;-84.05687189999998
X-APPLE-STRUCTURED-LOCATION;VALUE=URI;X-ADDRESS=8458 Gleason Drive\, Knoxvi
 lle\, Tennessee\, 37919\, United States;X-APPLE-RADIUS=100;X-TITLE=Echo Ri
 dge Retirement Community:geo:35.9153455,-84.05687189999998
END:VEVENT
END:VCALENDAR