BEGIN:VCALENDAR
VERSION:2.0
PRODID:-//wp-events-plugin.com//6.6.3//EN
BEGIN:VEVENT
UID:70@terribewley.com
DTSTART:20160827T183000Z
DTEND:20160827T183000Z
DTSTAMP:20160711T160940Z
URL:https://terribewley.com/events/concert-farragut-christian-church/
SUMMARY:Concert - Farragut Christian Church
DESCRIPTION:
LOCATION:Farragut Christian Church\, 138 Admiral Rd\, Knoxville\, Knoxville
 \, TN\, 37934\, United States
GEO:35.8912369;-84.15009199999997
X-APPLE-STRUCTURED-LOCATION;VALUE=URI;X-ADDRESS=138 Admiral Rd\, Knoxville\
 , Knoxville\, TN\, 37934\, United States;X-APPLE-RADIUS=100;X-TITLE=Farrag
 ut Christian Church:geo:35.8912369,-84.15009199999997
END:VEVENT
END:VCALENDAR