BEGIN:VCALENDAR
VERSION:2.0
PRODID:-//wp-events-plugin.com//6.6.3//EN
BEGIN:VEVENT
UID:196@terribewley.com
DTSTART:20200213T133000Z
DTEND:20200213T133000Z
DTSTAMP:20191113T210832Z
URL:https://terribewley.com/events/asbury-place-3/
SUMMARY:Asbury Place
DESCRIPTION:
LOCATION:Asbury Place Assisted Living\, 2648 Sevierville Rd\, Maryville\, U
 nited States
GEO:35.7654808;-83.92348219999997
X-APPLE-STRUCTURED-LOCATION;VALUE=URI;X-ADDRESS=2648 Sevierville Rd\, Maryv
 ille\, United States;X-APPLE-RADIUS=100;X-TITLE=Asbury Place Assisted Livi
 ng:geo:35.7654808,-83.92348219999997
END:VEVENT
END:VCALENDAR